{
 "currentVersion": 11.2,
 "cimVersion": "3.2.0",
 "serviceDescription": "",
 "mapName": "Map",
 "description": "",
 "copyrightText": "",
 "supportsDynamicLayers": true,
 "layers": [
  {
   "id": 0,
   "name": "BD_22_Municipios",
   "parentLayerId": -1,
   "defaultVisibility": true,
   "subLayerIds": null,
   "minScale": 0,
   "maxScale": 0,
   "type": "Feature Layer",
   "geometryType": "esriGeometryPolygon",
   "supportsDynamicLegends": true
  },
  {
   "id": 1,
   "name": "BD_22_Municipios_PDET",
   "parentLayerId": -1,
   "defaultVisibility": true,
   "subLayerIds": null,
   "minScale": 0,
   "maxScale": 0,
   "type": "Feature Layer",
   "geometryType": "esriGeometryPolygon",
   "supportsDynamicLegends": true
  }
 ],
 "tables": [],
 "spatialReference": {
  "wkid": 3116,
  "latestWkid": 3116,
  "xyTolerance": 0.001,
  "zTolerance": 0.001,
  "mTolerance": 0.001,
  "falseX": -4623200,
  "falseY": -9510300,
  "xyUnits": 10000,
  "falseZ": -100000,
  "zUnits": 10000,
  "falseM": -100000,
  "mUnits": 10000
 },
 "singleFusedMapCache": true,
 "tileInfo": {
  "rows": 256,
  "cols": 256,
  "dpi": 96,
  "format": "PNG",
  "compressionQuality": 0,
  "origin": {
   "x": -9001964.729228035,
   "y": 1.0493732263596196E7
  },
  "spatialReference": {
   "wkid": 3116,
   "latestWkid": 3116,
   "xyTolerance": 0.001,
   "zTolerance": 0.001,
   "mTolerance": 0.001,
   "falseX": -4623200,
   "falseY": -9510300,
   "xyUnits": 10000,
   "falseZ": -100000,
   "zUnits": 10000,
   "falseM": -100000,
   "mUnits": 10000
  },
  "lods": [
   {
    "level": 0,
    "resolution": 78140.34944709402,
    "scale": 2.9533360420948917E8
   },
   {
    "level": 1,
    "resolution": 39070.17472354701,
    "scale": 1.4766680210474458E8
   },
   {
    "level": 2,
    "resolution": 19535.087361773505,
    "scale": 7.383340105237229E7
   },
   {
    "level": 3,
    "resolution": 9767.543680886753,
    "scale": 3.6916700526186146E7
   },
   {
    "level": 4,
    "resolution": 4883.771840443376,
    "scale": 1.8458350263093073E7
   },
   {
    "level": 5,
    "resolution": 2441.885920221688,
    "scale": 9229175.131546536
   },
   {
    "level": 6,
    "resolution": 1220.942960110844,
    "scale": 4614587.565773268
   },
   {
    "level": 7,
    "resolution": 610.471480055422,
    "scale": 2307293.782886634
   },
   {
    "level": 8,
    "resolution": 305.235740027711,
    "scale": 1153646.891443317
   },
   {
    "level": 9,
    "resolution": 152.6178700138555,
    "scale": 576823.4457216585
   },
   {
    "level": 10,
    "resolution": 76.30893500692775,
    "scale": 288411.72286082926
   },
   {
    "level": 11,
    "resolution": 38.15446750346388,
    "scale": 144205.86143041463
   },
   {
    "level": 12,
    "resolution": 19.07723375173194,
    "scale": 72102.93071520732
   },
   {
    "level": 13,
    "resolution": 9.53861687586597,
    "scale": 36051.46535760366
   },
   {
    "level": 14,
    "resolution": 4.769308437932985,
    "scale": 18025.73267880183
   },
   {
    "level": 15,
    "resolution": 2.3846542189664923,
    "scale": 9012.866339400915
   },
   {
    "level": 16,
    "resolution": 1.1923271094832462,
    "scale": 4506.433169700457
   },
   {
    "level": 17,
    "resolution": 0.5961635547416231,
    "scale": 2253.2165848502286
   },
   {
    "level": 18,
    "resolution": 0.29808177737081154,
    "scale": 1126.6082924251143
   }
  ]
 },
 "storageInfo": {
  "storageFormat": "esriMapCacheStorageModeCompactV2",
  "packetSize": 128
 },
 "initialExtent": {
  "xmin": -644229.3233608005,
  "ymin": -261426.58348600054,
  "xmax": 2616335.405460801,
  "ymax": 2269336.6536860005,
  "spatialReference": {
   "wkid": 3116,
   "latestWkid": 3116,
   "xyTolerance": 0.001,
   "zTolerance": 0.001,
   "mTolerance": 0.001,
   "falseX": -4623200,
   "falseY": -9510300,
   "xyUnits": 10000,
   "falseZ": -100000,
   "zUnits": 10000,
   "falseM": -100000,
   "mUnits": 10000
  }
 },
 "fullExtent": {
  "xmin": 165290.19180000015,
  "ymin": 23039.05169999972,
  "xmax": 1806815.8903,
  "ymax": 1984871.0185000002,
  "spatialReference": {
   "wkid": 3116,
   "latestWkid": 3116,
   "xyTolerance": 0.001,
   "zTolerance": 0.001,
   "mTolerance": 0.001,
   "falseX": -4623200,
   "falseY": -9510300,
   "xyUnits": 10000,
   "falseZ": -100000,
   "zUnits": 10000,
   "falseM": -100000,
   "mUnits": 10000
  }
 },
 "datesInUnknownTimezone": false,
 "minScale": 7.383340105237229E7,
 "maxScale": 72102.93071520732,
 "units": "esriMeters",
 "supportedImageFormatTypes": "PNG32,PNG24,PNG,JPG,DIB,TIFF,EMF,PS,PDF,GIF,SVG,SVGZ,BMP",
 "documentInfo": {
  "Title": "Map",
  "Author": "",
  "Comments": "",
  "Subject": "",
  "Category": "",
  "Version": "2.9.0",
  "AntialiasingMode": "Fast",
  "TextAntialiasingMode": "Force",
  "Keywords": "BD_22_Municipios"
 },
 "supportsQueryDomains": true,
 "capabilities": "Map,Query,Data",
 "supportedQueryFormats": "JSON, geoJSON, PBF",
 "exportTilesAllowed": false,
 "referenceScale": 0.0,
 "datumTransformations": [
  {
   "geoTransforms": [
    {
     "wkid": 15738,
     "latestWkid": 15738,
     "transformForward": false,
     "name": "MAGNA_To_WGS_1984_1"
    }
   ]
  },
  {
   "geoTransforms": [
    {
     "wkid": 15738,
     "latestWkid": 15738,
     "transformForward": true,
     "name": "MAGNA_To_WGS_1984_1"
    }
   ]
  }
 ],
 "supportsDatumTransformation": true,
 "archivingInfo": {
  "supportsHistoricMoment": false
 },
 "supportsClipping": true,
 "supportsSpatialFilter": true,
 "supportsTimeRelation": true,
 "supportsQueryDataElements": true,
 "mapUnits": {
  "uwkid": 9001
 },
 "maxRecordCount": 2000,
 "maxImageHeight": 4096,
 "maxImageWidth": 4096,
 "supportedExtensions": "",
 "serviceItemId": "620d182d9730427b80257fa16efcd1d8"
}
